BEGIN:VCALENDAR
VERSION:2.0
PRODID:-//Berks-Mont Business Association - ECPv6.15.20//NONSGML v1.0//EN
CALSCALE:GREGORIAN
METHOD:PUBLISH
X-WR-CALNAME:Berks-Mont Business Association
X-ORIGINAL-URL:https://bmba.biz
X-WR-CALDESC:Events for Berks-Mont Business Association
REFRESH-INTERVAL;VALUE=DURATION:PT1H
X-Robots-Tag:noindex
X-PUBLISHED-TTL:PT1H
BEGIN:VTIMEZONE
TZID:America/New_York
BEGIN:DAYLIGHT
TZOFFSETFROM:-0500
TZOFFSETTO:-0400
TZNAME:EDT
DTSTART:20250309T070000
END:DAYLIGHT
BEGIN:STANDARD
TZOFFSETFROM:-0400
TZOFFSETTO:-0500
TZNAME:EST
DTSTART:20251102T060000
END:STANDARD
BEGIN:DAYLIGHT
TZOFFSETFROM:-0500
TZOFFSETTO:-0400
TZNAME:EDT
DTSTART:20260308T070000
END:DAYLIGHT
BEGIN:STANDARD
TZOFFSETFROM:-0400
TZOFFSETTO:-0500
TZNAME:EST
DTSTART:20261101T060000
END:STANDARD
BEGIN:DAYLIGHT
TZOFFSETFROM:-0500
TZOFFSETTO:-0400
TZNAME:EDT
DTSTART:20270314T070000
END:DAYLIGHT
BEGIN:STANDARD
TZOFFSETFROM:-0400
TZOFFSETTO:-0500
TZNAME:EST
DTSTART:20271107T060000
END:STANDARD
END:VTIMEZONE
BEGIN:VEVENT
DTSTART;TZID=America/New_York:20260502T130000
DTEND;TZID=America/New_York:20260502T150000
DTSTAMP:20260423T173711
CREATED:20260407T202253Z
LAST-MODIFIED:20260407T202253Z
UID:6973-1777726800-1777734000@bmba.biz
SUMMARY:Ridgewood Winery Mother's Day Event
DESCRIPTION:
URL:https://bmba.biz/event/ridgewood-winery-mothers-day-event/
LOCATION:Ridgewood Winery\, 215 Township Line Road\, Bechtelsville\, PA\, 19505
CATEGORIES:Upcoming Events
END:VEVENT
BEGIN:VEVENT
DTSTART;TZID=America/New_York:20260502T173000
DTEND;TZID=America/New_York:20260502T220000
DTSTAMP:20260423T173711
CREATED:20260211T195021Z
LAST-MODIFIED:20260325T135539Z
UID:6874-1777743000-1777759200@bmba.biz
SUMMARY:Comedy Night with Joe Conklin
DESCRIPTION:At Union Jacks Manatawny\n546 Manatawny Rd\, Boyertown\, PA 19512 \nDoors open at 5:30 PM! \nPURCHASE TICKETS HERE!
URL:https://bmba.biz/event/comedy-night-with-joe-conklin/
LOCATION:Union Jacks Manatawny
CATEGORIES:Upcoming Events
END:VEVENT
BEGIN:VEVENT
DTSTART;TZID=America/New_York:20260506T073000
DTEND;TZID=America/New_York:20260506T090000
DTSTAMP:20260423T173711
CREATED:20260211T193600Z
LAST-MODIFIED:20260211T193608Z
UID:6887-1778052600-1778058000@bmba.biz
SUMMARY:BMBA Breakfast Meeting
DESCRIPTION:Join us for our monthly BMBA Membership breakfast. \nHelp us build the Future Berks-Mont Business Association. \nOpen to BMBA members and their guests. $10 \nRemember\, if you bring a guest\, you and your guest are FREE! \nGuest Disclaimer – Guests cannot be from the same organization as the BMBA member. Guests are considered those that have the potential of becoming a BMBA member. One free breakfast per guest. Repeat guests are not eligible for free breakfast at a future meeting. \nBring your business cards\, any coupons and enough marketing material for everyone attending.
URL:https://bmba.biz/event/bmba-breakfast-meeting-may-2026/
LOCATION:Hooks & Ladder Fire Company
CATEGORIES:Upcoming Events
END:VEVENT
BEGIN:VEVENT
DTSTART;TZID=America/New_York:20260508T170000
DTEND;TZID=America/New_York:20260508T200000
DTSTAMP:20260423T173711
CREATED:20260302T164521Z
LAST-MODIFIED:20260302T164632Z
UID:6925-1778259600-1778270400@bmba.biz
SUMMARY:May Wine Walk
DESCRIPTION:The BMBA sponsors a seasonal monthly Wine Walk\, to promote community interactions and local businesses. Wine walk participants will pay a registration fee\, which includes a drinking cup\, wristband\, and a guide to the participating wine walk businesses. \nREGISTER HERE!\n\n\n\n\nBoyertown Wine Walk – Business Participation \nThe BMBA Wine Walk Committee invites your business to consider participating in our 2026 Wine Walk events! Opportunities include: \n• Serving wine\n• Partnering with another business to provide a food pairing\n• Sponsoring Goody Bags for the first 150 participants\n• Sponsoring a special activity or musical entertainment \nEach Wine Walk has its own theme\, includes a rain date\, and runs from 5PM to 8PM If you are interested in learning more about how your business can get involved\, please contact us by email at info@bmba.biz. \nThe Wine Walks support local businesses and area non-profits. Over 150 participants visit each business during the event—sampling wine\, shopping\, and sharing their experiences with friends and family. Each year\, three non-profit organizations are selected through an application process to become beneficiaries of Wine Walk proceeds and receive a donation check the following January. \nWe hope you’ll join us in making 2026 another successful year of fun\, fellowship\, and community impact! \nRequirements to participate: \n•  Active BMBA membership\n•  Be a local business\n•  If a wine walk business participant\, provide wine the night of the event (enough for 300 registrants)\n•  Promote your store (maybe with discount for wine walkers\, or offers or gift. Totally up to you how you promote your sales that night) \nIf interested\, please contact Kim Welch and Tracy Smith at boyertownwinewalk@gmail.com to register as a wine walk business\, to drop off your contributions for the goodie bag handout\, or for more information. Or complete the registration form and return to boyertownwinewalk@gmail.com. Registrations are due NO LATER than two weeks prior to the Wine Walk. Businesses will be chosen each month to participate as a wine walk business. (Business selection will change month to month).
URL:https://bmba.biz/event/may-wine-walk-2026/
LOCATION:24 N Reading Ave
CATEGORIES:Upcoming Events
END:VEVENT
BEGIN:VEVENT
DTSTART;TZID=America/New_York:20260509T170000
DTEND;TZID=America/New_York:20260509T190000
DTSTAMP:20260423T173711
CREATED:20260407T202359Z
LAST-MODIFIED:20260407T202359Z
UID:6976-1778346000-1778353200@bmba.biz
SUMMARY:Happy Hour with Chris Dietz at Ridgewood Winery
DESCRIPTION:
URL:https://bmba.biz/event/happy-hour-with-chris-dietz-at-ridgewood-winery/
LOCATION:Ridgewood Winery\, 215 Township Line Road\, Bechtelsville\, PA\, 19505
CATEGORIES:Upcoming Events
END:VEVENT
BEGIN:VEVENT
DTSTART;TZID=America/New_York:20260514T173000
DTEND;TZID=America/New_York:20260514T200000
DTSTAMP:20260423T173711
CREATED:20260311T205430Z
LAST-MODIFIED:20260311T205742Z
UID:6936-1778779800-1778788800@bmba.biz
SUMMARY:CBMC Ministry Outreach Event
DESCRIPTION:Learn More & Sign Up Here
URL:https://bmba.biz/event/cbmc-ministry-outreach-event/
CATEGORIES:Upcoming Events
END:VEVENT
BEGIN:VEVENT
DTSTART;TZID=America/New_York:20260524T120000
DTEND;TZID=America/New_York:20260524T170000
DTSTAMP:20260423T173711
CREATED:20260407T202454Z
LAST-MODIFIED:20260407T202454Z
UID:6979-1779624000-1779642000@bmba.biz
SUMMARY:Book Bingo at Ridgewood Winery
DESCRIPTION:
URL:https://bmba.biz/event/book-bingo-at-ridgewood-winery/
LOCATION:Ridgewood Winery\, 215 Township Line Road\, Bechtelsville\, PA\, 19505
CATEGORIES:Upcoming Events
END:VEVENT
BEGIN:VEVENT
DTSTART;TZID=America/New_York:20260531T130000
DTEND;TZID=America/New_York:20260531T170000
DTSTAMP:20260423T173711
CREATED:20260407T201655Z
LAST-MODIFIED:20260407T201655Z
UID:6964-1780232400-1780246800@bmba.biz
SUMMARY:Music Bingo
DESCRIPTION:
URL:https://bmba.biz/event/music-bingo/
LOCATION:Ridgewood Winery\, 215 Township Line Road\, Bechtelsville\, PA\, 19505
CATEGORIES:Upcoming Events
END:VEVENT
END:VCALENDAR