BEGIN:VCALENDAR
VERSION:2.0
PRODID:-//Berks-Mont Business Association - ECPv6.15.20//NONSGML v1.0//EN
CALSCALE:GREGORIAN
METHOD:PUBLISH
X-WR-CALNAME:Berks-Mont Business Association
X-ORIGINAL-URL:https://bmba.biz
X-WR-CALDESC:Events for Berks-Mont Business Association
REFRESH-INTERVAL;VALUE=DURATION:PT1H
X-Robots-Tag:noindex
X-PUBLISHED-TTL:PT1H
BEGIN:VTIMEZONE
TZID:America/New_York
BEGIN:DAYLIGHT
TZOFFSETFROM:-0500
TZOFFSETTO:-0400
TZNAME:EDT
DTSTART:20250309T070000
END:DAYLIGHT
BEGIN:STANDARD
TZOFFSETFROM:-0400
TZOFFSETTO:-0500
TZNAME:EST
DTSTART:20251102T060000
END:STANDARD
BEGIN:DAYLIGHT
TZOFFSETFROM:-0500
TZOFFSETTO:-0400
TZNAME:EDT
DTSTART:20260308T070000
END:DAYLIGHT
BEGIN:STANDARD
TZOFFSETFROM:-0400
TZOFFSETTO:-0500
TZNAME:EST
DTSTART:20261101T060000
END:STANDARD
BEGIN:DAYLIGHT
TZOFFSETFROM:-0500
TZOFFSETTO:-0400
TZNAME:EDT
DTSTART:20270314T070000
END:DAYLIGHT
BEGIN:STANDARD
TZOFFSETFROM:-0400
TZOFFSETTO:-0500
TZNAME:EST
DTSTART:20271107T060000
END:STANDARD
END:VTIMEZONE
BEGIN:VEVENT
DTSTART;TZID=America/New_York:20260807T170000
DTEND;TZID=America/New_York:20260807T200000
DTSTAMP:20260424T111701
CREATED:20260407T203058Z
LAST-MODIFIED:20260407T203709Z
UID:6982-1786122000-1786132800@bmba.biz
SUMMARY:August Wine Walk - Summer Luau
DESCRIPTION:PURCHASE YOUR TICKETS HERE!
URL:https://bmba.biz/event/august-wine-walk-summer-luau/
CATEGORIES:Upcoming Events
END:VEVENT
END:VCALENDAR