BEGIN:VCALENDAR
VERSION:2.0
PRODID:-//Berks-Mont Business Association - ECPv6.15.20//NONSGML v1.0//EN
CALSCALE:GREGORIAN
METHOD:PUBLISH
X-WR-CALNAME:Berks-Mont Business Association
X-ORIGINAL-URL:https://bmba.biz
X-WR-CALDESC:Events for Berks-Mont Business Association
REFRESH-INTERVAL;VALUE=DURATION:PT1H
X-Robots-Tag:noindex
X-PUBLISHED-TTL:PT1H
BEGIN:VTIMEZONE
TZID:America/New_York
BEGIN:DAYLIGHT
TZOFFSETFROM:-0500
TZOFFSETTO:-0400
TZNAME:EDT
DTSTART:20250309T070000
END:DAYLIGHT
BEGIN:STANDARD
TZOFFSETFROM:-0400
TZOFFSETTO:-0500
TZNAME:EST
DTSTART:20251102T060000
END:STANDARD
BEGIN:DAYLIGHT
TZOFFSETFROM:-0500
TZOFFSETTO:-0400
TZNAME:EDT
DTSTART:20260308T070000
END:DAYLIGHT
BEGIN:STANDARD
TZOFFSETFROM:-0400
TZOFFSETTO:-0500
TZNAME:EST
DTSTART:20261101T060000
END:STANDARD
BEGIN:DAYLIGHT
TZOFFSETFROM:-0500
TZOFFSETTO:-0400
TZNAME:EDT
DTSTART:20270314T070000
END:DAYLIGHT
BEGIN:STANDARD
TZOFFSETFROM:-0400
TZOFFSETTO:-0500
TZNAME:EST
DTSTART:20271107T060000
END:STANDARD
END:VTIMEZONE
BEGIN:VEVENT
DTSTART;TZID=America/New_York:20260422T140000
DTEND;TZID=America/New_York:20260422T190000
DTSTAMP:20260421T080507
CREATED:20260330T125228Z
LAST-MODIFIED:20260330T125228Z
UID:6957-1776866400-1776884400@bmba.biz
SUMMARY:The Residence at Boyertown Grand Opening
DESCRIPTION:RSVP HERE!
URL:https://bmba.biz/event/the-residence-at-boyertown-grand-opening/
CATEGORIES:Upcoming Events
END:VEVENT
BEGIN:VEVENT
DTSTART;TZID=America/New_York:20260425T140000
DTEND;TZID=America/New_York:20260425T160000
DTSTAMP:20260421T080507
CREATED:20260407T202129Z
LAST-MODIFIED:20260407T202136Z
UID:6970-1777125600-1777132800@bmba.biz
SUMMARY:Afternoon Tea at Ridgewood Winery
DESCRIPTION:
URL:https://bmba.biz/event/afternoon-tea-at-ridgewood-winery/
LOCATION:Ridgewood Winery\, 215 Township Line Road\, Bechtelsville\, PA\, 19505
CATEGORIES:Upcoming Events
END:VEVENT
END:VCALENDAR