BEGIN:VCALENDAR
VERSION:2.0
PRODID:-//Berks-Mont Business Association - ECPv6.15.20//NONSGML v1.0//EN
CALSCALE:GREGORIAN
METHOD:PUBLISH
X-WR-CALNAME:Berks-Mont Business Association
X-ORIGINAL-URL:https://bmba.biz
X-WR-CALDESC:Events for Berks-Mont Business Association
REFRESH-INTERVAL;VALUE=DURATION:PT1H
X-Robots-Tag:noindex
X-PUBLISHED-TTL:PT1H
BEGIN:VTIMEZONE
TZID:America/New_York
BEGIN:DAYLIGHT
TZOFFSETFROM:-0500
TZOFFSETTO:-0400
TZNAME:EDT
DTSTART:20250309T070000
END:DAYLIGHT
BEGIN:STANDARD
TZOFFSETFROM:-0400
TZOFFSETTO:-0500
TZNAME:EST
DTSTART:20251102T060000
END:STANDARD
BEGIN:DAYLIGHT
TZOFFSETFROM:-0500
TZOFFSETTO:-0400
TZNAME:EDT
DTSTART:20260308T070000
END:DAYLIGHT
BEGIN:STANDARD
TZOFFSETFROM:-0400
TZOFFSETTO:-0500
TZNAME:EST
DTSTART:20261101T060000
END:STANDARD
BEGIN:DAYLIGHT
TZOFFSETFROM:-0500
TZOFFSETTO:-0400
TZNAME:EDT
DTSTART:20270314T070000
END:DAYLIGHT
BEGIN:STANDARD
TZOFFSETFROM:-0400
TZOFFSETTO:-0500
TZNAME:EST
DTSTART:20271107T060000
END:STANDARD
END:VTIMEZONE
BEGIN:VEVENT
DTSTART;TZID=America/New_York:20260603T073000
DTEND;TZID=America/New_York:20260603T090000
DTSTAMP:20260423T173249
CREATED:20260211T193645Z
LAST-MODIFIED:20260211T193957Z
UID:6890-1780471800-1780477200@bmba.biz
SUMMARY:BMBA Breakfast Meeting
DESCRIPTION:Join us for our monthly BMBA Membership breakfast. \nHelp us build the Future Berks-Mont Business Association. \nOpen to BMBA members and their guests. $10 \nRemember\, if you bring a guest\, you and your guest are FREE! \nGuest Disclaimer – Guests cannot be from the same organization as the BMBA member. Guests are considered those that have the potential of becoming a BMBA member. One free breakfast per guest. Repeat guests are not eligible for free breakfast at a future meeting. \nBring your business cards\, any coupons and enough marketing material for everyone attending.
URL:https://bmba.biz/event/bmba-breakfast-meeting-june-2026/
LOCATION:Hooks & Ladder Fire Company
CATEGORIES:Upcoming Events
END:VEVENT
END:VCALENDAR