BEGIN:VCALENDAR
VERSION:2.0
PRODID:-//Berks-Mont Business Association - ECPv6.15.20//NONSGML v1.0//EN
CALSCALE:GREGORIAN
METHOD:PUBLISH
X-WR-CALNAME:Berks-Mont Business Association
X-ORIGINAL-URL:https://bmba.biz
X-WR-CALDESC:Events for Berks-Mont Business Association
REFRESH-INTERVAL;VALUE=DURATION:PT1H
X-Robots-Tag:noindex
X-PUBLISHED-TTL:PT1H
BEGIN:VTIMEZONE
TZID:America/New_York
BEGIN:DAYLIGHT
TZOFFSETFROM:-0500
TZOFFSETTO:-0400
TZNAME:EDT
DTSTART:20250309T070000
END:DAYLIGHT
BEGIN:STANDARD
TZOFFSETFROM:-0400
TZOFFSETTO:-0500
TZNAME:EST
DTSTART:20251102T060000
END:STANDARD
BEGIN:DAYLIGHT
TZOFFSETFROM:-0500
TZOFFSETTO:-0400
TZNAME:EDT
DTSTART:20260308T070000
END:DAYLIGHT
BEGIN:STANDARD
TZOFFSETFROM:-0400
TZOFFSETTO:-0500
TZNAME:EST
DTSTART:20261101T060000
END:STANDARD
BEGIN:DAYLIGHT
TZOFFSETFROM:-0500
TZOFFSETTO:-0400
TZNAME:EDT
DTSTART:20270314T070000
END:DAYLIGHT
BEGIN:STANDARD
TZOFFSETFROM:-0400
TZOFFSETTO:-0500
TZNAME:EST
DTSTART:20271107T060000
END:STANDARD
END:VTIMEZONE
BEGIN:VEVENT
DTSTART;TZID=America/New_York:20260415T073000
DTEND;TZID=America/New_York:20260415T090000
DTSTAMP:20260423T190224
CREATED:20260211T191356Z
LAST-MODIFIED:20260211T191356Z
UID:6871-1776238200-1776243600@bmba.biz
SUMMARY:Coffee & Conversations
DESCRIPTION:Join us for networking\, good coffee and sweet treats while enjoying conversations with old friends while making new connections! \nApril 15th from 7:30AM to 9AM at Boyertown Brickworks
URL:https://bmba.biz/event/coffee-conversations-2/
LOCATION:Boyertown Brickworks\, 10 S Reading Ave\, Boyertown
CATEGORIES:Upcoming Events
END:VEVENT
END:VCALENDAR