BEGIN:VCALENDAR
VERSION:2.0
PRODID:-//Berks-Mont Business Association - ECPv6.15.20//NONSGML v1.0//EN
CALSCALE:GREGORIAN
METHOD:PUBLISH
X-WR-CALNAME:Berks-Mont Business Association
X-ORIGINAL-URL:https://bmba.biz
X-WR-CALDESC:Events for Berks-Mont Business Association
REFRESH-INTERVAL;VALUE=DURATION:PT1H
X-Robots-Tag:noindex
X-PUBLISHED-TTL:PT1H
BEGIN:VTIMEZONE
TZID:America/New_York
BEGIN:DAYLIGHT
TZOFFSETFROM:-0500
TZOFFSETTO:-0400
TZNAME:EDT
DTSTART:20250309T070000
END:DAYLIGHT
BEGIN:STANDARD
TZOFFSETFROM:-0400
TZOFFSETTO:-0500
TZNAME:EST
DTSTART:20251102T060000
END:STANDARD
BEGIN:DAYLIGHT
TZOFFSETFROM:-0500
TZOFFSETTO:-0400
TZNAME:EDT
DTSTART:20260308T070000
END:DAYLIGHT
BEGIN:STANDARD
TZOFFSETFROM:-0400
TZOFFSETTO:-0500
TZNAME:EST
DTSTART:20261101T060000
END:STANDARD
BEGIN:DAYLIGHT
TZOFFSETFROM:-0500
TZOFFSETTO:-0400
TZNAME:EDT
DTSTART:20270314T070000
END:DAYLIGHT
BEGIN:STANDARD
TZOFFSETFROM:-0400
TZOFFSETTO:-0500
TZNAME:EST
DTSTART:20271107T060000
END:STANDARD
END:VTIMEZONE
BEGIN:VEVENT
DTSTART;VALUE=DATE:20260410
DTEND;VALUE=DATE:20260412
DTSTAMP:20260423T192226
CREATED:20260318T124305Z
LAST-MODIFIED:20260318T124350Z
UID:6948-1775779200-1775951999@bmba.biz
SUMMARY:Mini Golf in the Library
DESCRIPTION:Fore! It’s tee time at the Boyertown Community Library! \nOn April 10th and 11th\, the library is transforming into a mini golf course and you will have the chance to golf in the stacks! We are thrilled to have several incredible local businesses sponsoring the event. Please join us for some mini golf and fun all while supporting the library! \nAdults Night Out: Friday\, April 10th (6pm-9pm)\n\nTickets are $35 per person\nIncludes 18 holes of mini golf and 1 Adult Beverage token (choice of beer\, wine or themed mocktail)\nAlso included: non-alcoholic beverages and lite bites available at the “19th hole”\nPlease remember to bring your photo ID with you as this is a 21+ event\n\nFamily Day: Saturday\, April 11th (10am-3pm)\n\nTickets are $6 per person\nIncludes 18 holes of mini golf\nThis is an all day\, drop-in event\nAdditional snacks and treats will be available for purchase at the “19th hole”\nThere will be a surprise guest at the “19th hole” courtesy of Birthday Buddies at some point throughout the day (check back for details!)\nThis is an all ages event\n\nAll proceeds will be going to the Boyertown Community Library. Your generosity will help to support programming and other day-to-day operations of the library. We thank you for your support! \nPURCHASE TICKETS HERE!
URL:https://bmba.biz/event/mini-golf-in-the-library/
CATEGORIES:Upcoming Events
END:VEVENT
BEGIN:VEVENT
DTSTART;TZID=America/New_York:20260411T073000
DTEND;TZID=America/New_York:20260411T103000
DTSTAMP:20260423T192226
CREATED:20260126T165818Z
LAST-MODIFIED:20260126T165850Z
UID:6686-1775892600-1775903400@bmba.biz
SUMMARY:Pancake Breakfast 2026
DESCRIPTION:
URL:https://bmba.biz/event/pancake-breakfast-2026/
CATEGORIES:Upcoming Events
END:VEVENT
END:VCALENDAR