BEGIN:VCALENDAR
VERSION:2.0
PRODID:-//Berks-Mont Business Association - ECPv6.15.20//NONSGML v1.0//EN
CALSCALE:GREGORIAN
METHOD:PUBLISH
X-ORIGINAL-URL:https://bmba.biz
X-WR-CALDESC:Events for Berks-Mont Business Association
REFRESH-INTERVAL;VALUE=DURATION:PT1H
X-Robots-Tag:noindex
X-PUBLISHED-TTL:PT1H
BEGIN:VTIMEZONE
TZID:America/New_York
BEGIN:DAYLIGHT
TZOFFSETFROM:-0500
TZOFFSETTO:-0400
TZNAME:EDT
DTSTART:20250309T070000
END:DAYLIGHT
BEGIN:STANDARD
TZOFFSETFROM:-0400
TZOFFSETTO:-0500
TZNAME:EST
DTSTART:20251102T060000
END:STANDARD
BEGIN:DAYLIGHT
TZOFFSETFROM:-0500
TZOFFSETTO:-0400
TZNAME:EDT
DTSTART:20260308T070000
END:DAYLIGHT
BEGIN:STANDARD
TZOFFSETFROM:-0400
TZOFFSETTO:-0500
TZNAME:EST
DTSTART:20261101T060000
END:STANDARD
BEGIN:DAYLIGHT
TZOFFSETFROM:-0500
TZOFFSETTO:-0400
TZNAME:EDT
DTSTART:20270314T070000
END:DAYLIGHT
BEGIN:STANDARD
TZOFFSETFROM:-0400
TZOFFSETTO:-0500
TZNAME:EST
DTSTART:20271107T060000
END:STANDARD
END:VTIMEZONE
BEGIN:VEVENT
DTSTART;TZID=America/New_York:20260319T073000
DTEND;TZID=America/New_York:20260319T090000
DTSTAMP:20260424T073734
CREATED:20260211T191107Z
LAST-MODIFIED:20260211T191237Z
UID:6865-1773905400-1773910800@bmba.biz
SUMMARY:Coffee & Conversations
DESCRIPTION:Join us for networking\, good coffee and sweet treats while enjoying conversations with old friends while making new connections! \nMarch 19th from 7:30AM to 9AM at Everything Printing
URL:https://bmba.biz/event/coffee-conversations/
LOCATION:Everything Printing\, 1145 E Philadelphia Ave\, Gilbertsville\, United States
CATEGORIES:Upcoming Events
END:VEVENT
END:VCALENDAR