BEGIN:VCALENDAR
VERSION:2.0
PRODID:-//Berks-Mont Business Association - ECPv6.15.20//NONSGML v1.0//EN
CALSCALE:GREGORIAN
METHOD:PUBLISH
X-ORIGINAL-URL:https://bmba.biz
X-WR-CALDESC:Events for Berks-Mont Business Association
REFRESH-INTERVAL;VALUE=DURATION:PT1H
X-Robots-Tag:noindex
X-PUBLISHED-TTL:PT1H
BEGIN:VTIMEZONE
TZID:America/New_York
BEGIN:DAYLIGHT
TZOFFSETFROM:-0500
TZOFFSETTO:-0400
TZNAME:EDT
DTSTART:20250309T070000
END:DAYLIGHT
BEGIN:STANDARD
TZOFFSETFROM:-0400
TZOFFSETTO:-0500
TZNAME:EST
DTSTART:20251102T060000
END:STANDARD
BEGIN:DAYLIGHT
TZOFFSETFROM:-0500
TZOFFSETTO:-0400
TZNAME:EDT
DTSTART:20260308T070000
END:DAYLIGHT
BEGIN:STANDARD
TZOFFSETFROM:-0400
TZOFFSETTO:-0500
TZNAME:EST
DTSTART:20261101T060000
END:STANDARD
BEGIN:DAYLIGHT
TZOFFSETFROM:-0500
TZOFFSETTO:-0400
TZNAME:EDT
DTSTART:20270314T070000
END:DAYLIGHT
BEGIN:STANDARD
TZOFFSETFROM:-0400
TZOFFSETTO:-0500
TZNAME:EST
DTSTART:20271107T060000
END:STANDARD
END:VTIMEZONE
BEGIN:VEVENT
DTSTART;TZID=America/New_York:20260310T100000
DTEND;TZID=America/New_York:20260310T120000
DTSTAMP:20260424T044737
CREATED:20260216T175734Z
LAST-MODIFIED:20260216T175734Z
UID:6919-1773136800-1773144000@bmba.biz
SUMMARY:Realtors Meet & Mingle
DESCRIPTION:☕✨ Calling All Realtors! ✨☕ \nYou’re invited to a laid-back Sip\, Chat & Connect Meet & Mingle morning! \nLet’s take a break from the chaos of contracts and closings and actually connect. Whether you’re curious about new opportunities\, want to grow your network\, or just need good coffee and better conversation\, this is for you. \n🗓 Tuesday\, March 10th \n⏰ 10:00 AM – 12:00 PM \n📍 Starbucks – 500 Broad St\, Collegeville\, PA \nQuestions or want to RSVP? \n📩 lady.aces@everyhome.com or DM one of us!  \nMillie Harpel – (305) 767-5935 \nEmily Mitchell – (484)535-1700 \nJessica Remaley – (215) 290-3288 \nJayda Harpel – (215) 767-8968
URL:https://bmba.biz/event/realtors-meet-mingle/
CATEGORIES:Upcoming Events
END:VEVENT
END:VCALENDAR